BEGIN:VCALENDAR
VERSION:2.0
PRODID:-//Invest South Tyneside - ECPv6.15.20//NONSGML v1.0//EN
CALSCALE:GREGORIAN
METHOD:PUBLISH
X-WR-CALNAME:Invest South Tyneside
X-ORIGINAL-URL:https://investsouthtyneside.com
X-WR-CALDESC:Events for Invest South Tyneside
REFRESH-INTERVAL;VALUE=DURATION:PT1H
X-Robots-Tag:noindex
X-PUBLISHED-TTL:PT1H
BEGIN:VTIMEZONE
TZID:Europe/London
BEGIN:DAYLIGHT
TZOFFSETFROM:+0000
TZOFFSETTO:+0100
TZNAME:BST
DTSTART:20250330T010000
END:DAYLIGHT
BEGIN:STANDARD
TZOFFSETFROM:+0100
TZOFFSETTO:+0000
TZNAME:GMT
DTSTART:20251026T010000
END:STANDARD
BEGIN:DAYLIGHT
TZOFFSETFROM:+0000
TZOFFSETTO:+0100
TZNAME:BST
DTSTART:20260329T010000
END:DAYLIGHT
BEGIN:STANDARD
TZOFFSETFROM:+0100
TZOFFSETTO:+0000
TZNAME:GMT
DTSTART:20261025T010000
END:STANDARD
BEGIN:DAYLIGHT
TZOFFSETFROM:+0000
TZOFFSETTO:+0100
TZNAME:BST
DTSTART:20270328T010000
END:DAYLIGHT
BEGIN:STANDARD
TZOFFSETFROM:+0100
TZOFFSETTO:+0000
TZNAME:GMT
DTSTART:20271031T010000
END:STANDARD
END:VTIMEZONE
BEGIN:VEVENT
DTSTART;TZID=Europe/London:20260709T100000
DTEND;TZID=Europe/London:20260709T120000
DTSTAMP:20260424T120008
CREATED:20260327T101847Z
LAST-MODIFIED:20260327T101850Z
UID:7635-1783591200-1783598400@investsouthtyneside.com
SUMMARY:How to Actually Start Your Business in South Tyneside 
DESCRIPTION:If you’re almost ready to start your business in South Tyneside but not sure how to actually register it officially\, then this event is ideal for you.\n\n\n\nTo get you off to the best start\, we’ll show you how you can get £50* on us! Open a business current account with Tide and TEDCO Business Support LTD and TIDE will give you £50 and 1 year of free bank transfers when you open a business account with them! *T&Cs apply \n\n\n\nIf you’re just thinking about starting a business\, but not ready yet…\n\n\n\nthen this is a quick way to start planning. It’s ideal for people who are just thinking about working for themselves and want to know how to register officially – great for freelancers\, hobbyists\, sellers on sites like Etsy/Vinted etc. \n\n\n\nYou’ll learn all about starting a business so you’ll know what to do when the time comes: \n\n\n\n\nhow to choose the right legal structure (Sole Trader / Partnership / Limited Company)\n\n\n\nthe advantages & disadvantages of each\n\n\n\nabout the registration process and legal obligations\n\n\n\nmeet the TEDCO Business Advisors who will be there to help you when you’re ready\n\n\n\n\nIf you know you NEED to register as self-employed now…\n\n\n\nso once you’ve listened to start-up advice (see 1 above)\, then you’ll make arrangements to actually register your business with the support of the TEDCO Business Advisors. \n\n\n\nIdeal for people who are ready to start such as: \n\n\n\n\nself-employed drivers (such as Just Eat\, Deliveroo etc)\n\n\n\nconstruction workers who need to register as sub-contractors\n\n\n\nprivate fitness trainers who are ready to take on personal clients\n\n\n\nhairdressers\, beauticians and nail technicians who are renting a chair in a salon.\n\n\n\n\nWhether you’re starting your business straight away or are still in the planning phase\, there’ll be handy hints and guidance to keep you on track as you progress your plans. \n\n\n\nYou must be a South Tyneside resident or business to access this particular support. Regional eligibility criteria apply\, please contact us to enquire about your eligibility. \n\n\n\nPeople accessing this support will be asked to take part in a brief phone-based diagnostic to ensure as much as possible is gleaned from the programme \n\n\n\nReserve your place now!\n\n\n\nIMPORTANT INFORMATION\n\n\n\nRegional eligibility applies\, and bookings from individuals outside the area may be cancelled due to strict funding criteria. Please contact us to check your eligibility before booking.\n\n\n\nThis event is delivered by TEDCO Business Support on behalf of South Tyneside Council’s start-up programme which aims to support local residents with their aspirations to start up a business. This project is funded by the UK government through the UK Shared Prosperity Fund. \n\n\n\nPlease book via Event Brite: How to ACTUALLY start your business Tickets\, Thursday\, Jul 9\, 2026 from 10 am to 12 pm | Eventbrite
URL:https://investsouthtyneside.com/event/how-to-actually-start-your-business-in-south-tyneside-july-2026/
LOCATION:One Trinity Green\, Eldon Street\, South Shields\, NE33 1SA\, United Kingdom
CATEGORIES:Business support
ATTACH;FMTTYPE=image/jpeg:https://investsouthtyneside.com/wp-content/uploads/2024/08/TEDCO-BusinessSupport-logo-RGB-NEW-1.jpg
ORGANIZER;CN="Tedco":MAILTO:hello@tedco.org
END:VEVENT
END:VCALENDAR